BEGIN:VCALENDAR
VERSION:2.0
PRODID:-//Ashby Historical Society - ECPv6.15.20//NONSGML v1.0//EN
CALSCALE:GREGORIAN
METHOD:PUBLISH
X-WR-CALNAME:Ashby Historical Society
X-ORIGINAL-URL:https://ashbyhistorical.org
X-WR-CALDESC:Events for Ashby Historical Society
REFRESH-INTERVAL;VALUE=DURATION:PT1H
X-Robots-Tag:noindex
X-PUBLISHED-TTL:PT1H
BEGIN:VTIMEZONE
TZID:America/New_York
BEGIN:DAYLIGHT
TZOFFSETFROM:-0500
TZOFFSETTO:-0400
TZNAME:EDT
DTSTART:20240310T070000
END:DAYLIGHT
BEGIN:STANDARD
TZOFFSETFROM:-0400
TZOFFSETTO:-0500
TZNAME:EST
DTSTART:20241103T060000
END:STANDARD
BEGIN:DAYLIGHT
TZOFFSETFROM:-0500
TZOFFSETTO:-0400
TZNAME:EDT
DTSTART:20250309T070000
END:DAYLIGHT
BEGIN:STANDARD
TZOFFSETFROM:-0400
TZOFFSETTO:-0500
TZNAME:EST
DTSTART:20251102T060000
END:STANDARD
BEGIN:DAYLIGHT
TZOFFSETFROM:-0500
TZOFFSETTO:-0400
TZNAME:EDT
DTSTART:20260308T070000
END:DAYLIGHT
BEGIN:STANDARD
TZOFFSETFROM:-0400
TZOFFSETTO:-0500
TZNAME:EST
DTSTART:20261101T060000
END:STANDARD
END:VTIMEZONE
BEGIN:VEVENT
DTSTART;TZID=America/New_York:20251018T100000
DTEND;TZID=America/New_York:20251018T130000
DTSTAMP:20260422T143020
CREATED:20250926T205354Z
LAST-MODIFIED:20250926T205354Z
UID:819-1760781600-1760792400@ashbyhistorical.org
SUMMARY:Historical Society Open House
DESCRIPTION:The Old Engine House will be open from 10 – 1 pm. Come see and relive Ashby’s history. Discover why the old tavern sign has the image of a British Cavalry officer on it. How the United States standardized weights and measures. How fires were fought with hand pumped fire apparatus. Something for every member of the family.
URL:https://ashbyhistorical.org/event/historical-society-open-house/
LOCATION:Old Engine House\, 846 Main St.\, Ashby\, MA\, 01431\, United States
CATEGORIES:Exhibit,Open House
END:VEVENT
BEGIN:VEVENT
DTSTART;TZID=America/New_York:20250920T090000
DTEND;TZID=America/New_York:20250920T140000
DTSTAMP:20260422T143020
CREATED:20250913T102615Z
LAST-MODIFIED:20250913T102615Z
UID:807-1758358800-1758376800@ashbyhistorical.org
SUMMARY:Power Sports Swap Meet
DESCRIPTION:Power Sports swap meet. Sept 20\, Allen Field. Ashby\, Ma\n\n.
URL:https://ashbyhistorical.org/event/power-sports-swap-meet/
LOCATION:Allen Field\, 530 West Rd\, Ashby\, MA\, 01431\, United States
CATEGORIES:Exhibit,Fair - Festival,Sale
ORGANIZER;CN="Ashby Animals":MAILTO:Contact@ashbyanimals.com
END:VEVENT
BEGIN:VEVENT
DTSTART;TZID=America/New_York:20250831T070000
DTEND;TZID=America/New_York:20250831T140000
DTSTAMP:20260422T143020
CREATED:20250614T124402Z
LAST-MODIFIED:20250817T094031Z
UID:674-1756623600-1756648800@ashbyhistorical.org
SUMMARY:Ashby Car Show for Veterans
DESCRIPTION:Classic cars\, muscle cars\, antique cars at the show. Awards for best in class. Food vendors all day. Join us for a day of classic cars\, community spirit\, and honoring our veterans.
URL:https://ashbyhistorical.org/event/ashby-car-shows-for-veterans/
LOCATION:Allen Field\, 530 West Rd\, Ashby\, MA\, 01431\, United States
CATEGORIES:Exhibit,Fair - Festival
END:VEVENT
BEGIN:VEVENT
DTSTART;TZID=America/New_York:20250726T140000
DTEND;TZID=America/New_York:20250726T160000
DTSTAMP:20260422T143020
CREATED:20250722T095443Z
LAST-MODIFIED:20250722T095443Z
UID:723-1753538400-1753545600@ashbyhistorical.org
SUMMARY:Voices & Votes - Gala Opening
DESCRIPTION:We’re thrilled to announce our Smithsonian Exhibition has arrived\n Gala Opening: Saturday\, July 26th at 2:00 PM\nEveryone is invited to this community celebration! \nFeaturing: \n\nA special Ashby Exhibit curated by the Ashby Historical Society\nGuest speakers from Mass Humanities\, whose generous sponsorship made this exhibit possible\n\nWant to get involved?\n Become a docent! Sign up at the front desk or online at:
URL:https://ashbyhistorical.org/event/voices-votes-gala-opening/
LOCATION:Ashby Free Public Library\, 812 Main St\, Ashby\, MA\, 01431\, United States
CATEGORIES:Exhibit,Open House
END:VEVENT
BEGIN:VEVENT
DTSTART;TZID=America/New_York:20250726T000000
DTEND;TZID=America/New_York:20250906T000000
DTSTAMP:20260422T143020
CREATED:20250416T120033Z
LAST-MODIFIED:20250722T095907Z
UID:589-1753488000-1757116800@ashbyhistorical.org
SUMMARY:Voices & Votes
DESCRIPTION:The Smithsonian exhibit “Voices and Votes” that explores American democracy from multiple perspectives is coming to Ashby Free Public Library. Topics include the origins of American democracy; the struggles to obtain and keep the vote; the machinery of democracy; the right to petition and protest beyond the ballot; and the rights and responsibilities of citizens. Rather than focusing on politics\, “Voices and Votes” prompts viewers to think about four key questions: \n\n\n\nWho gets to participate in democracy?\nHow do you get people to participate in democracy?\nIs there a way for citizens to participate beyond the ballot?\nWhat are the basic rights and responsibilities of citizens?\n\n\n\nSponsored by:\nThe Smithsonian\nMass Cultural Council\nMass Humanities Museum on Main Street\nAshby Free Public Library \nOpen during regular Library hours. https://www.ashbylibrary.org/
URL:https://ashbyhistorical.org/event/voices-votes/
LOCATION:Ashby Free Public Library\, 812 Main St\, Ashby\, MA\, 01431\, United States
CATEGORIES:Exhibit
END:VEVENT
BEGIN:VEVENT
DTSTART;TZID=America/New_York:20250524T100000
DTEND;TZID=America/New_York:20250524T130000
DTSTAMP:20260422T143020
CREATED:20250412T225750Z
LAST-MODIFIED:20250509T120512Z
UID:534-1748080800-1748091600@ashbyhistorical.org
SUMMARY:Ashby & the American Revolution
DESCRIPTION:Open House at the Old Engine House. See artifacts from the Ashby Militia and the early days of the American Revolution with emphasis on the Ashby Militia’s participation in the Battle of Bunker Hill. Staff will available to discuss the importance of various items and documents including the orderly book which was carried during the Battle. \n 
URL:https://ashbyhistorical.org/event/revolution-250-ashby/
LOCATION:Old Engine House\, 846 Main St.\, Ashby\, MA\, 01431\, United States
CATEGORIES:Exhibit,Open House
END:VEVENT
END:VCALENDAR